BEGIN:VCALENDAR
VERSION:2.0
PRODID:icalendar-ruby
CALSCALE:GREGORIAN
METHOD:PUBLISH
BEGIN:VEVENT
DTSTAMP:20260423T224801Z
UID:14-314656@cwc559.com
DTSTART:20260915T013000Z
DTEND:20260915T030000Z
CLASS:PUBLIC
CREATED:20260423T141708
DESCRIPTION:Miracle Mondays
LAST-MODIFIED:20260423T141708
LOCATION:3930 E Saginaw Way Fresno Ca 93726
SUMMARY:Miracle Mondays 
URL;VALUE=URI:https://www.cwc559.com/events/miracle-mondays/2026-09-14
ATTACH;FILENAME=church-weekly-schedule-%281%29---Made-with-PosterMyWall.jpg
 ;FMTTYPE=image/jpeg:https://dq5pwpg1q8ru0.cloudfront.net/2026/01/05/22/02/
 21/3d32c217-04a2-4556-9f64-03a7769de662/church-weekly-schedule-%25281%2529
 ---Made-with-PosterMyWall.jpg
END:VEVENT
END:VCALENDAR
