BEGIN:VCALENDAR
VERSION:2.0
PRODID:icalendar-ruby
CALSCALE:GREGORIAN
METHOD:PUBLISH
BEGIN:VEVENT
DTSTAMP:20260419T152828Z
UID:11-309984@cwc559.com
DTSTART:20261025T170000Z
DTEND:20261025T200000Z
CLASS:PUBLIC
CREATED:20260419T061431
DESCRIPTION:
LAST-MODIFIED:20260419T061431
LOCATION:3930 E Saginaw Way Fresno Ca 93726
SUMMARY:Sunday Worship Service
URL;VALUE=URI:https://www.cwc559.com/events/sunday-worship-service/2026-10-
 25
END:VEVENT
END:VCALENDAR
